BEGIN:VCALENDAR
VERSION:2.0
PRODID:Fort Bend County, TX Calendar Creator
METHOD:PUBLISH
BEGIN:VEVENT
DTSTAMP:20250513T063351
DTSTART:20250603T030000
DTEND:20250603T090000
SUMMARY:Constable's Notice of Sale: Seabourne Homeowners Association, Inc. Vs. Phyllis Brown
DESCRIPTION:
CLASS:PUBLIC
END:VEVENT
END:VCALENDAR
